BEGIN:VCALENDAR
VERSION:2.0
PRODID:-//ReCNTR - ECPv6.15.17.1//NONSGML v1.0//EN
CALSCALE:GREGORIAN
METHOD:PUBLISH
X-WR-CALNAME:ReCNTR
X-ORIGINAL-URL:https://www.recntr.nl
X-WR-CALDESC:Events for ReCNTR
REFRESH-INTERVAL;VALUE=DURATION:PT1H
X-Robots-Tag:noindex
X-PUBLISHED-TTL:PT1H
BEGIN:VTIMEZONE
TZID:Europe/Amsterdam
BEGIN:DAYLIGHT
TZOFFSETFROM:+0100
TZOFFSETTO:+0200
TZNAME:CEST
DTSTART:20230326T010000
END:DAYLIGHT
BEGIN:STANDARD
TZOFFSETFROM:+0200
TZOFFSETTO:+0100
TZNAME:CET
DTSTART:20231029T010000
END:STANDARD
BEGIN:DAYLIGHT
TZOFFSETFROM:+0100
TZOFFSETTO:+0200
TZNAME:CEST
DTSTART:20240331T010000
END:DAYLIGHT
BEGIN:STANDARD
TZOFFSETFROM:+0200
TZOFFSETTO:+0100
TZNAME:CET
DTSTART:20241027T010000
END:STANDARD
BEGIN:DAYLIGHT
TZOFFSETFROM:+0100
TZOFFSETTO:+0200
TZNAME:CEST
DTSTART:20250330T010000
END:DAYLIGHT
BEGIN:STANDARD
TZOFFSETFROM:+0200
TZOFFSETTO:+0100
TZNAME:CET
DTSTART:20251026T010000
END:STANDARD
END:VTIMEZONE
BEGIN:VEVENT
DTSTART;TZID=Europe/Amsterdam:20240312T191500
DTEND;TZID=Europe/Amsterdam:20240312T204500
DTSTAMP:20260419T191744
CREATED:20240206T101039Z
LAST-MODIFIED:20240206T101039Z
UID:1468-1710270900-1710276300@www.recntr.nl
SUMMARY:Ethnographic Landscapes: Talk with J.P. Sniadecki & Cristiana Strava
DESCRIPTION:Tickets and further details \nReCNTR x Eye \nDuring their Paravel & Castaing-Taylor: Cosmic Realism exhibition (20 January – 20 May 2024)\, Eye Filmmuseum is collaborating with ReCNTR on a number of talks and screenings that are taking place as part of the exhibition’s accompanying programme. \nEye Filmmuseum is the Dutch national museum for film. Their exhibition showcases the works of Véréna Paravel and Lucien Castaing-Taylor\, pioneering filmmakers who are reinventing the relationship between anthropology and cinema with their formally innovative nonfiction filmmaking. Paravel and Castaing-Taylor are closely associated with Harvard University’s Sensory Ethnography Lab\, which was founded by Castaing-Taylor in 2006. \nOver the coming months\, ReCNTR\, in various capacities\, will be involved in the accompanying programme of this landmark exhibition. \nEvent Description \nAs part of Eye Filmmuseum’s regular strand Eye on Art\, ReCNTR is co-presenting the talk “Ethnographic Landscapes” by J.P. Sniadecki\, which will be followed by a conversation moderated by ReCNTR co-director Cristiana Strava. \nIn a talk that will include film and audio extracts\, Sniadecki and Strava’s conversation will touch on the subject of landscapes\, visual excavation\, and material inscriptions. Discussing both El Mar la Mar (co-directed with Joshua Bonnetta\, 2017) and Foreign Parts (co-directed with Véréna Paravel\, 2010)\, both of which will also screen at Eye Filmmuseum on 12 March\, Sniadecki and Strava will explore collaboration\, the relations between stories and images\, and the materiality of different media from analogue\, to digital\, and audio documentation. \nJ.P. Sniadecki will be visiting the Netherlands to take part in the first meeting of the ReCNTR Lab\, the multimodal research workshop ReCNTR is organising with a KIEM grant\, as our invited external researcher. The closed workshop will take place on 13-15 March. \nJ.P. Sniadecki is a filmmaker\, anthropologist\, and professor of documentary media at Northwestern University in Chicago. His films\, which include Demolition / Chaiqian (2008)\, Foreign Parts (with Verena Paravel\, 2010)\, People’s Park (with Libbie Cohn\, 2012)\, Yumen (with Huang Xiang and Xu Ruotao\, 2013)\, The Iron Ministry (2014) and El Mar la Mar (with Joshua Bonetta\, 2017)\, have won many awards at festivals around the world. His work has been featured in the 2014 Whitney Biennale\, the 2014 Shanghai Biennale\, the UCCA in Beijing\, The MoMA\, The Guggenheim\, The Museum of Natural History in New York\, and a special section of BIFF 2012. He is an alumnus of Harvard University’s Sensory Ethnography Lab (SEL). \nCristiana Strava\, co-director of ReCNTR\, is an anthropologist at Leiden University trained at Harvard University and SOAS. She has a broad interest in urban spaces\, economic inequality\, and the politics of planning and development regimes\, and has experience living and carrying out research in North and West Africa. \nTicket prices: Standard (€12.50)\, Student (€10)\, Cineville (free)\nTickets and further details
URL:https://www.recntr.nl/events/ethnographic-landscapes-talk-with-j-p-sniadecki-cristiana-strava/
LOCATION:EYE Film Museum\, IJpromenade 1\,\, Amsterdam\, 1031 KT\, Netherlands
CATEGORIES:Talk
ATTACH;FMTTYPE=image/png:https://www.recntr.nl/wp-content/uploads/2024/02/still_El-mar-la-mar-Joshua-Bonnetta-J.P.-Sniadecki-US-2018-1-1.png
END:VEVENT
END:VCALENDAR