BEGIN:VCALENDAR
VERSION:2.0
PRODID:-//ReCNTR - ECPv6.15.17.1//NONSGML v1.0//EN
CALSCALE:GREGORIAN
METHOD:PUBLISH
X-WR-CALNAME:ReCNTR
X-ORIGINAL-URL:https://www.recntr.nl
X-WR-CALDESC:Events for ReCNTR
REFRESH-INTERVAL;VALUE=DURATION:PT1H
X-Robots-Tag:noindex
X-PUBLISHED-TTL:PT1H
BEGIN:VTIMEZONE
TZID:Europe/Amsterdam
BEGIN:DAYLIGHT
TZOFFSETFROM:+0100
TZOFFSETTO:+0200
TZNAME:CEST
DTSTART:20220327T010000
END:DAYLIGHT
BEGIN:STANDARD
TZOFFSETFROM:+0200
TZOFFSETTO:+0100
TZNAME:CET
DTSTART:20221030T010000
END:STANDARD
BEGIN:DAYLIGHT
TZOFFSETFROM:+0100
TZOFFSETTO:+0200
TZNAME:CEST
DTSTART:20230326T010000
END:DAYLIGHT
BEGIN:STANDARD
TZOFFSETFROM:+0200
TZOFFSETTO:+0100
TZNAME:CET
DTSTART:20231029T010000
END:STANDARD
BEGIN:DAYLIGHT
TZOFFSETFROM:+0100
TZOFFSETTO:+0200
TZNAME:CEST
DTSTART:20240331T010000
END:DAYLIGHT
BEGIN:STANDARD
TZOFFSETFROM:+0200
TZOFFSETTO:+0100
TZNAME:CET
DTSTART:20241027T010000
END:STANDARD
END:VTIMEZONE
BEGIN:VEVENT
DTSTART;TZID=Europe/Amsterdam:20230328T200000
DTEND;TZID=Europe/Amsterdam:20230328T220000
DTSTAMP:20260419T163427
CREATED:20230308T144645Z
LAST-MODIFIED:20230308T153555Z
UID:1025-1680033600-1680040800@www.recntr.nl
SUMMARY:ReCNTR\, ArteEast & LIMA present: A Grain of Sand in the Mountain’s Belly | 28 March 2023 | 20:00 | LAB111\, Amsterdam
DESCRIPTION:We are delighted to team up once again with LIMA\, and this time with ArteEast\, for this screening curated by Nat Muller! The programme features several works by Jumana Emil Abboud who is our special guest for the week. \nWhen and where \nDate & Time: Tuesday 28 March 2023 | 20:00\nLocation: LAB 111\, Amsterdam (LAB2)\nPrice: 7\,50 euros | students 5\,00 euros | Cineville \nGet your tickets here \nThe screening will be followed by a Q&A with the artists. The evening will conclude with the opportunity to catch up at LAB111’s cafe in attendance of the curators and the artists. \nMore on the event: https://www.recntr.nl/2023/03/recntr-arteeast-lima-present-a-grain-of-sand-in-the-mountains-belly-28-march-2023-2000-lab111-amsterdam/ \n 
URL:https://www.recntr.nl/events/recntr-arteeast-lima-present-a-grain-of-sand-in-the-mountains-belly-28-march-2023-lab111-amsterdam/
LOCATION:Lab 111\, Arie Biemondstraat 111\, Amsterdam\, 1054 PD\, Netherlands
ATTACH;FMTTYPE=image/jpeg:https://www.recntr.nl/wp-content/uploads/2023/03/LI-MA-Presents_Giovanni-Giaretta-The-Sailor-2017_with-logos.jpg
END:VEVENT
END:VCALENDAR