BEGIN:VCALENDAR
VERSION:2.0
PRODID:-//ReCNTR - ECPv6.15.17.1//NONSGML v1.0//EN
CALSCALE:GREGORIAN
METHOD:PUBLISH
X-ORIGINAL-URL:https://www.recntr.nl
X-WR-CALDESC:Events for ReCNTR
REFRESH-INTERVAL;VALUE=DURATION:PT1H
X-Robots-Tag:noindex
X-PUBLISHED-TTL:PT1H
BEGIN:VTIMEZONE
TZID:Europe/Amsterdam
BEGIN:DAYLIGHT
TZOFFSETFROM:+0100
TZOFFSETTO:+0200
TZNAME:CEST
DTSTART:20210328T010000
END:DAYLIGHT
BEGIN:STANDARD
TZOFFSETFROM:+0200
TZOFFSETTO:+0100
TZNAME:CET
DTSTART:20211031T010000
END:STANDARD
BEGIN:DAYLIGHT
TZOFFSETFROM:+0100
TZOFFSETTO:+0200
TZNAME:CEST
DTSTART:20220327T010000
END:DAYLIGHT
BEGIN:STANDARD
TZOFFSETFROM:+0200
TZOFFSETTO:+0100
TZNAME:CET
DTSTART:20221030T010000
END:STANDARD
BEGIN:DAYLIGHT
TZOFFSETFROM:+0100
TZOFFSETTO:+0200
TZNAME:CEST
DTSTART:20230326T010000
END:DAYLIGHT
BEGIN:STANDARD
TZOFFSETFROM:+0200
TZOFFSETTO:+0100
TZNAME:CET
DTSTART:20231029T010000
END:STANDARD
END:VTIMEZONE
BEGIN:VEVENT
DTSTART;TZID=Europe/Amsterdam:20220513T150000
DTEND;TZID=Europe/Amsterdam:20220513T170000
DTSTAMP:20260425T172028
CREATED:20221213T124157Z
LAST-MODIFIED:20230530T121422Z
UID:925-1652454000-1652461200@www.recntr.nl
SUMMARY:Talk by Neal White: The Deep Field / Art and the Ecological Imaginary| Room 348| Wijnhaven building
DESCRIPTION:Neal White is an artist and researcher. His talk will address artistic and academic research in relation to ecology as shaped by scientific framing of knowledge of environmental issues. The talk will highlight an artistic project he is leading in collaboration with artist Tina O’Connell  at Amstelpark\, Amsterdam\, supported by Mondriaan Funds and zone2source. Framed by his work with the Deep Field Project\, a research initiative that involves a range of graduate researchers using concepts from the environmental humanities\, engaging with methodological innovation\, and experimental fieldwork\, White reflects on the power relationships that shape interdisciplinary and epistemic/environmental encounters and the critical role of artistic researchers in shaping knowledge futures. \n  \nWhen and where \n13 May 2022\, from 15:00 to 17:00\nWijnhaven building | Room 348\nTurfmarkt 99 The Hague
URL:https://www.recntr.nl/events/talk-by-neal-white-the-deep-field-art-and-the-ecological-imaginary-room-348-wijnhaven-building/
LOCATION:Wijnhaven Building\, Turfmarkt 99\, The Hague\, 2511 DP\, Netherlands
ATTACH;FMTTYPE=image/jpeg:https://www.recntr.nl/wp-content/uploads/2022/05/Perfect-Nature-May-2022-6-of-7-scaled.jpeg
END:VEVENT
END:VCALENDAR