BEGIN:VCALENDAR
VERSION:2.0
PRODID:-//ReCNTR - ECPv6.15.17.1//NONSGML v1.0//EN
CALSCALE:GREGORIAN
METHOD:PUBLISH
X-WR-CALNAME:ReCNTR
X-ORIGINAL-URL:https://www.recntr.nl
X-WR-CALDESC:Events for ReCNTR
REFRESH-INTERVAL;VALUE=DURATION:PT1H
X-Robots-Tag:noindex
X-PUBLISHED-TTL:PT1H
BEGIN:VTIMEZONE
TZID:Europe/Amsterdam
BEGIN:DAYLIGHT
TZOFFSETFROM:+0100
TZOFFSETTO:+0200
TZNAME:CEST
DTSTART:20210328T010000
END:DAYLIGHT
BEGIN:STANDARD
TZOFFSETFROM:+0200
TZOFFSETTO:+0100
TZNAME:CET
DTSTART:20211031T010000
END:STANDARD
BEGIN:DAYLIGHT
TZOFFSETFROM:+0100
TZOFFSETTO:+0200
TZNAME:CEST
DTSTART:20220327T010000
END:DAYLIGHT
BEGIN:STANDARD
TZOFFSETFROM:+0200
TZOFFSETTO:+0100
TZNAME:CET
DTSTART:20221030T010000
END:STANDARD
BEGIN:DAYLIGHT
TZOFFSETFROM:+0100
TZOFFSETTO:+0200
TZNAME:CEST
DTSTART:20230326T010000
END:DAYLIGHT
BEGIN:STANDARD
TZOFFSETFROM:+0200
TZOFFSETTO:+0100
TZNAME:CET
DTSTART:20231029T010000
END:STANDARD
END:VTIMEZONE
BEGIN:VEVENT
DTSTART;TZID=Europe/Amsterdam:20220630T150000
DTEND;TZID=Europe/Amsterdam:20220630T170000
DTSTAMP:20260425T142446
CREATED:20221213T125159Z
LAST-MODIFIED:20230530T121348Z
UID:932-1656601200-1656608400@www.recntr.nl
SUMMARY:Talk by Nathaniel Brunt: The Country Without a Post Office / Archiving Photographic Histories of Armed Conflict | Room 312 a/b | Wijnhaven building
DESCRIPTION:For nearly a decade\, Nathaniel Brunt\, has examined the history\, sociocultural impact\, and human cost of the insurgency in India’s Kashmir Valley. During this presentation Brunt will show the organic development of his work in the field and the unique way his project blends archival practice\, documentary photography\, and cultural historical research. The lecture will draw specific attention to his work #shaheed (2014-2017) which explores the recent re-emergence and evolution of the insurgency in the region\, the lives of the young men fighting in it\, and the broader changing nature of the photographic representation of war in the early 21st century. \n  \nWhen and where \n30 June 2022\, from 15:00 to 17:00\nWijnhaven building | Room 312 a/b\nTurfmarkt 99 The Hague
URL:https://www.recntr.nl/events/talk-by-nathaniel-brunt-the-country-without-a-post-office-archiving-photographic-histories-of-armed-conflict-room-312-a-b-wijnhaven-building/
LOCATION:Wijnhaven Building\, Turfmarkt 99\, The Hague\, 2511 DP\, Netherlands
ATTACH;FMTTYPE=image/jpeg:https://www.recntr.nl/wp-content/uploads/2022/06/ii_l44cpche1.jpeg
END:VEVENT
END:VCALENDAR