BEGIN:VCALENDAR
VERSION:2.0
PRODID:-//ReCNTR - ECPv6.15.17.1//NONSGML v1.0//EN
CALSCALE:GREGORIAN
METHOD:PUBLISH
X-ORIGINAL-URL:https://www.recntr.nl
X-WR-CALDESC:Events for ReCNTR
REFRESH-INTERVAL;VALUE=DURATION:PT1H
X-Robots-Tag:noindex
X-PUBLISHED-TTL:PT1H
BEGIN:VTIMEZONE
TZID:Europe/Amsterdam
BEGIN:DAYLIGHT
TZOFFSETFROM:+0100
TZOFFSETTO:+0200
TZNAME:CEST
DTSTART:20220327T010000
END:DAYLIGHT
BEGIN:STANDARD
TZOFFSETFROM:+0200
TZOFFSETTO:+0100
TZNAME:CET
DTSTART:20221030T010000
END:STANDARD
BEGIN:DAYLIGHT
TZOFFSETFROM:+0100
TZOFFSETTO:+0200
TZNAME:CEST
DTSTART:20230326T010000
END:DAYLIGHT
BEGIN:STANDARD
TZOFFSETFROM:+0200
TZOFFSETTO:+0100
TZNAME:CET
DTSTART:20231029T010000
END:STANDARD
BEGIN:DAYLIGHT
TZOFFSETFROM:+0100
TZOFFSETTO:+0200
TZNAME:CEST
DTSTART:20240331T010000
END:DAYLIGHT
BEGIN:STANDARD
TZOFFSETFROM:+0200
TZOFFSETTO:+0100
TZNAME:CET
DTSTART:20241027T010000
END:STANDARD
END:VTIMEZONE
BEGIN:VEVENT
DTSTART;TZID=Europe/Amsterdam:20230329T130000
DTEND;TZID=Europe/Amsterdam:20230329T150000
DTSTAMP:20260422T194231
CREATED:20230308T143230Z
LAST-MODIFIED:20230312T084653Z
UID:1027-1680094800-1680102000@www.recntr.nl
SUMMARY:Talk by Jumana Emil Abboud: Untangling divinations in water | 29 March 2023 | 13:00-15:00 | The Hague [Register to join]
DESCRIPTION:Based between Jerusalem and London\, artist Jumana Emil Abboud draws on Palestinian folklore\, magic\, mythologies\, and supernatural elements as a political and imaginary framework to re-appropriate and reinterpret dispossessed landscapes and histories. Her internationally exhibited practice ranges from drawing and video to performance and painting. By placing a strong emphasis on community-driven and participatory aspects\, she offers a poetic and collective method of worldbuilding\, as well as a means to counter the decades-long erasure of space and memory in Palestine. (Nat Muller) \n  \nWhen and where:\n29 March 2023 | 13:00 – 15:00\nRoom A2.02 | Schouwburgstraat Building | Leiden University\nSchouwburgstraat 2\, 2511 VA The Hague \n  \nRegister here : https://www.recntr.nl/2023/03/talk-by-jumana-emil-abboud-untangling-divinations-in-water-29-march-2023-1300-1500-the-hague-register-to-join/
URL:https://www.recntr.nl/events/talk-by-jumana-emil-abboud-untangling-divinations-in-water-29-march-2023-1300-1500-the-hague-register-to-join/
LOCATION:Schouwburgstraat Building\, Schouwburgstraat 2\, The Hague\, 2511 VA\, Netherlands
ATTACH;FMTTYPE=image/jpeg:https://www.recntr.nl/wp-content/uploads/2023/03/img20210124_0026-2000x2753-1.jpg
END:VEVENT
END:VCALENDAR